BEGIN:VCALENDAR
VERSION:2.0
PRODID:-//Corporación Cerro Navia - ECPv6.10.1.1//NONSGML v1.0//EN
CALSCALE:GREGORIAN
METHOD:PUBLISH
X-WR-CALNAME:Corporación Cerro Navia
X-ORIGINAL-URL:https://corporacion.cerronavia.cl
X-WR-CALDESC:Eventos para Corporación Cerro Navia
REFRESH-INTERVAL;VALUE=DURATION:PT1H
X-Robots-Tag:noindex
X-PUBLISHED-TTL:PT1H
BEGIN:VTIMEZONE
TZID:America/Santiago
BEGIN:STANDARD
TZOFFSETFROM:-0300
TZOFFSETTO:-0400
TZNAME:-04
DTSTART:20240407T030000
END:STANDARD
BEGIN:DAYLIGHT
TZOFFSETFROM:-0400
TZOFFSETTO:-0300
TZNAME:-03
DTSTART:20240908T040000
END:DAYLIGHT
END:VTIMEZONE
BEGIN:VEVENT
DTSTART;TZID=America/Santiago:20241001T180000
DTEND;TZID=America/Santiago:20241001T190000
DTSTAMP:20260423T225441
CREATED:20240926T132438Z
LAST-MODIFIED:20240926T133722Z
UID:10158-1727805600-1727809200@corporacion.cerronavia.cl
SUMMARY:Presentación del libro: "Hermanas del Pueblo. Odile Loubet y las religiosas de la resistencia"\, de Samuel Laurent Xu.
DESCRIPTION:🎟️Entrada liberada
URL:https://corporacion.cerronavia.cl/event/10158/
LOCATION:Biblioteca Municipal Fatema Mernissi\, Huelén 1549\, santiago\, Chile
CATEGORIES:Biblioteca,Lanzamiento libros
ATTACH;FMTTYPE=image/png:https://corporacion.cerronavia.cl/wp-content/uploads/2024/09/presi_libro-oct_feed.png
ORGANIZER;CN="Corporaci%C3%B3n de Inclusi%C3%B3n Social de Cerro Navia":MAILTO:gestiondeprensa@cerronavia.cl
END:VEVENT
BEGIN:VEVENT
DTSTART;TZID=America/Santiago:20241010T180000
DTEND;TZID=America/Santiago:20241010T190000
DTSTAMP:20260423T225441
CREATED:20241009T131352Z
LAST-MODIFIED:20241009T134134Z
UID:10358-1728583200-1728586800@corporacion.cerronavia.cl
SUMMARY:Historias Cruzadas: Lectura sobre el encuentro de dos mundos
DESCRIPTION:Entrada liberada.
URL:https://corporacion.cerronavia.cl/event/historias-cruzadas-lectura-sobre-el-encuentro-de-dos-mundos/
LOCATION:Biblioteca Municipal Fatema Mernissi\, Huelén 1549\, santiago\, Chile
CATEGORIES:Biblioteca,Charlas
ATTACH;FMTTYPE=image/png:https://corporacion.cerronavia.cl/wp-content/uploads/2024/10/encuentro_feed.png
ORGANIZER;CN="Corporaci%C3%B3n de Inclusi%C3%B3n Social de Cerro Navia":MAILTO:gestiondeprensa@cerronavia.cl
END:VEVENT
BEGIN:VEVENT
DTSTART;TZID=America/Santiago:20241011T180000
DTEND;TZID=America/Santiago:20241011T190000
DTSTAMP:20260423T225441
CREATED:20241009T133428Z
LAST-MODIFIED:20241009T133428Z
UID:10372-1728669600-1728673200@corporacion.cerronavia.cl
SUMMARY:Presentación de libro: "Historia chilenas de fantasmas"
DESCRIPTION:Inscríbete en biblioteca@cerronavia.cl
URL:https://corporacion.cerronavia.cl/event/presentacion-de-libro-historia-chilenas-de-fantasmas/
LOCATION:Biblioteca Municipal Fatema Mernissi\, Huelén 1549\, santiago\, Chile
CATEGORIES:Biblioteca,Lanzamiento libros
ATTACH;FMTTYPE=image/png:https://corporacion.cerronavia.cl/wp-content/uploads/2024/10/ceci_fantasmas_feed.png
ORGANIZER;CN="Corporaci%C3%B3n de Inclusi%C3%B3n Social de Cerro Navia":MAILTO:gestiondeprensa@cerronavia.cl
END:VEVENT
BEGIN:VEVENT
DTSTART;TZID=America/Santiago:20241021T170000
DTEND;TZID=America/Santiago:20241104T180000
DTSTAMP:20260423T225441
CREATED:20241021T184340Z
LAST-MODIFIED:20241021T184407Z
UID:10482-1729530000-1730743200@corporacion.cerronavia.cl
SUMMARY:Taller de Gestión de Redes Sociales para emprendedores: Herramientas y consejos
DESCRIPTION:Inscríbete en biblioteca@cerronavia.cl
URL:https://corporacion.cerronavia.cl/event/taller-de-gestion-de-redes-sociales-para-emprendedores-herramientas-y-consejos/
LOCATION:Biblioteca Municipal Fatema Mernissi\, Huelén 1549\, santiago\, Chile
CATEGORIES:Biblioteca,Talleres
ATTACH;FMTTYPE=image/png:https://corporacion.cerronavia.cl/wp-content/uploads/2024/10/mkt_emprendedores_feed-1.png
ORGANIZER;CN="Corporaci%C3%B3n de Inclusi%C3%B3n Social de Cerro Navia":MAILTO:gestiondeprensa@cerronavia.cl
END:VEVENT
END:VCALENDAR