BEGIN:VCALENDAR
VERSION:2.0
PRODID:-//Corporación Cerro Navia - ECPv6.10.1.1//NONSGML v1.0//EN
CALSCALE:GREGORIAN
METHOD:PUBLISH
X-WR-CALNAME:Corporación Cerro Navia
X-ORIGINAL-URL:https://corporacion.cerronavia.cl
X-WR-CALDESC:Eventos para Corporación Cerro Navia
REFRESH-INTERVAL;VALUE=DURATION:PT1H
X-Robots-Tag:noindex
X-PUBLISHED-TTL:PT1H
BEGIN:VTIMEZONE
TZID:America/Santiago
BEGIN:STANDARD
TZOFFSETFROM:-0300
TZOFFSETTO:-0400
TZNAME:-04
DTSTART:20230402T030000
END:STANDARD
BEGIN:DAYLIGHT
TZOFFSETFROM:-0400
TZOFFSETTO:-0300
TZNAME:-03
DTSTART:20230903T040000
END:DAYLIGHT
END:VTIMEZONE
BEGIN:VEVENT
DTSTART;TZID=America/Santiago:20230410T183000
DTEND;TZID=America/Santiago:20230410T193000
DTSTAMP:20260424T154410
CREATED:20230405T201858Z
LAST-MODIFIED:20230406T164012Z
UID:2696-1681151400-1681155000@corporacion.cerronavia.cl
SUMMARY:Charla inaugural: El libro y su impacto en el desarrollo de la sociedad chilena
DESCRIPTION:¡Mes del libro en Cerro Navia! \nVen a la charla inaugural sobre el libro y su impacto en el desarrollo de la sociedad chilena en la Cafetería de la Casa de las Culturas\, las Artes y las Ciencias Violeta Parra. \nActividad totalmente gratuita y abierta a la comunidad.
URL:https://corporacion.cerronavia.cl/event/charla-inaugural-el-libro-y-su-impacto-en-el-desarrollo-de-la-sociedad-chilena/
CATEGORIES:Biblioteca,Cerro Ediciones,Cerroletras,Charla - Conversatorio,Charlas,Charlas - Conversatorios,Cultura
ATTACH;FMTTYPE=image/png:https://corporacion.cerronavia.cl/wp-content/uploads/2023/04/piezas_mes_del_libro_RRSS_10_abril_feed.png
END:VEVENT
BEGIN:VEVENT
DTSTART;TZID=America/Santiago:20230412T110000
DTEND;TZID=America/Santiago:20230412T120000
DTSTAMP:20260424T154410
CREATED:20230406T205523Z
LAST-MODIFIED:20230406T205523Z
UID:2837-1681297200-1681300800@corporacion.cerronavia.cl
SUMMARY:Conversatorio: ¿Por qué leer\, escribir y editar libros hoy?
DESCRIPTION:¡Seguimos con las actividades del mes del libro en Cerro Navia! 📖🤩\n\n\n \n\n\nTe esperamos este miércoles 12 de abril\, en la cafetería de la Casa de las Culturas\, las Artes y las ciencias Violeta Parra\, en el conversatorio ¿Por qué leer\, escribir y editar libros hoy? Junto a la escritora Yasmín Fauaz\, el Académico Francisco Martinovich y el poeta cerronavino Fabián Alvarez.\n\n\n \n\n\nEsta actividad es totalmente gratuito y abierto a la comunidad.
URL:https://corporacion.cerronavia.cl/event/conversatorio-por-que-leer-escribir-y-editar-libros-hoy/
LOCATION:Casa de las Culturas\, las Artes y las Ciencias Violeta Parra\, Huelén 1549\, santiago\, Chile
CATEGORIES:Biblioteca,Cerro Ediciones,Cerroletras,Charla - Conversatorio,Charlas,Charlas - Conversatorios,Cultura
ATTACH;FMTTYPE=image/png:https://corporacion.cerronavia.cl/wp-content/uploads/2023/04/piezas_mes_del_libro_RRSS_act_12_abril_feed.png
END:VEVENT
BEGIN:VEVENT
DTSTART;TZID=America/Santiago:20230419T180000
DTEND;TZID=America/Santiago:20230419T190000
DTSTAMP:20260424T154410
CREATED:20230406T211650Z
LAST-MODIFIED:20230406T211650Z
UID:2878-1681927200-1681930800@corporacion.cerronavia.cl
SUMMARY:Conversatorio: Mauricio Amster y Susana Wald: arte\, tipografía y diseño de libros.
DESCRIPTION:Te invitamos al conversatorio sobre Mauricio Amster y Susana Wald sobre arte\, tipografía y diseño de libros. \nCafetería\, Casa de las Culturas\, las Artes y las Ciencias Violeta Parra. \nActividad totalmente gratuita.
URL:https://corporacion.cerronavia.cl/event/conversatorio-mauricio-amster-y-susana-wald-arte-tipografia-y-diseno-de-libros/
LOCATION:Casa de las Culturas\, las Artes y las Ciencias Violeta Parra\, Huelén 1549\, santiago\, Chile
CATEGORIES:Biblioteca,Cerro Ediciones,Cerroletras,Charla - Conversatorio,Charlas,Charlas - Conversatorios,Cultura
ATTACH;FMTTYPE=image/png:https://corporacion.cerronavia.cl/wp-content/uploads/2023/04/piezas_mes_del_libro_RRSS_act_19_abril_feed.png
END:VEVENT
BEGIN:VEVENT
DTSTART;TZID=America/Santiago:20230427T180000
DTEND;TZID=America/Santiago:20230427T190000
DTSTAMP:20260424T154410
CREATED:20230406T213749Z
LAST-MODIFIED:20230406T213749Z
UID:2915-1682618400-1682622000@corporacion.cerronavia.cl
SUMMARY:Presentación de libro: Galla\, empodérate!
DESCRIPTION:Presentación de libro: Galla\, empodérate! \nBiblioteca Fatema Mernissi Cerro Navia. \nActividad gratuita abierta a todo público.
URL:https://corporacion.cerronavia.cl/event/presentacion-de-libro-galla-empoderate/
LOCATION:Casa de las Culturas\, las Artes y las Ciencias Violeta Parra\, Huelén 1549\, santiago\, Chile
CATEGORIES:Biblioteca,Charlas,Cultura,Lanzamiento libros
ATTACH;FMTTYPE=image/png:https://corporacion.cerronavia.cl/wp-content/uploads/2023/04/ColorVertical-Biblioteca-ALTA.png
END:VEVENT
END:VCALENDAR