BEGIN:VCALENDAR
VERSION:2.0
PRODID:-//Corporación Cerro Navia - ECPv6.10.1.1//NONSGML v1.0//EN
CALSCALE:GREGORIAN
METHOD:PUBLISH
X-WR-CALNAME:Corporación Cerro Navia
X-ORIGINAL-URL:https://corporacion.cerronavia.cl
X-WR-CALDESC:Eventos para Corporación Cerro Navia
REFRESH-INTERVAL;VALUE=DURATION:PT1H
X-Robots-Tag:noindex
X-PUBLISHED-TTL:PT1H
BEGIN:VTIMEZONE
TZID:America/Santiago
BEGIN:STANDARD
TZOFFSETFROM:-0300
TZOFFSETTO:-0400
TZNAME:-04
DTSTART:20240407T030000
END:STANDARD
BEGIN:DAYLIGHT
TZOFFSETFROM:-0400
TZOFFSETTO:-0300
TZNAME:-03
DTSTART:20240908T040000
END:DAYLIGHT
END:VTIMEZONE
BEGIN:VEVENT
DTSTART;TZID=America/Santiago:20241116T180000
DTEND;TZID=America/Santiago:20241116T190000
DTSTAMP:20260425T132442
CREATED:20241112T151921Z
LAST-MODIFIED:20241112T151921Z
UID:10590-1731780000-1731783600@corporacion.cerronavia.cl
SUMMARY:Día de los Patrimonios: Circo en el territorio
DESCRIPTION:Actividad con entrada liberada para toda la familia.
URL:https://corporacion.cerronavia.cl/event/dia-de-los-patrimonios-circo-en-el-territorio/
LOCATION:Fleming / Huelén
CATEGORIES:Cultura,Cultura en el Territorio
ATTACH;FMTTYPE=image/png:https://corporacion.cerronavia.cl/wp-content/uploads/2024/11/patrimonio_infancias_feed-1.png
ORGANIZER;CN="Corporaci%C3%B3n de Inclusi%C3%B3n Social de Cerro Navia":MAILTO:gestiondeprensa@cerronavia.cl
END:VEVENT
BEGIN:VEVENT
DTSTART;TZID=America/Santiago:20241117T160000
DTEND;TZID=America/Santiago:20241117T183000
DTSTAMP:20260425T132442
CREATED:20241112T152459Z
LAST-MODIFIED:20241112T152459Z
UID:10595-1731859200-1731868200@corporacion.cerronavia.cl
SUMMARY:Encuentro folclórico de Cerro Navia
DESCRIPTION:Actividad abierta a toda la comunidad en el Parque La Hondonada.
URL:https://corporacion.cerronavia.cl/event/encuentro-folclorico-de-cerro-navia/
LOCATION:Parque La Hondonada\, Parque La Hondonada\, Santiago\, Chile
CATEGORIES:Cultura,Cultura en el Territorio
ATTACH;FMTTYPE=image/png:https://corporacion.cerronavia.cl/wp-content/uploads/2024/11/encuentro_folclorico_2024_b_feed-copia.png
ORGANIZER;CN="Corporaci%C3%B3n de Inclusi%C3%B3n Social de Cerro Navia":MAILTO:gestiondeprensa@cerronavia.cl
END:VEVENT
END:VCALENDAR