BEGIN:VCALENDAR
VERSION:2.0
PRODID:-//Corporación Cerro Navia - ECPv6.10.1.1//NONSGML v1.0//EN
CALSCALE:GREGORIAN
METHOD:PUBLISH
X-WR-CALNAME:Corporación Cerro Navia
X-ORIGINAL-URL:https://corporacion.cerronavia.cl
X-WR-CALDESC:Eventos para Corporación Cerro Navia
REFRESH-INTERVAL;VALUE=DURATION:PT1H
X-Robots-Tag:noindex
X-PUBLISHED-TTL:PT1H
BEGIN:VTIMEZONE
TZID:America/Santiago
BEGIN:STANDARD
TZOFFSETFROM:-0300
TZOFFSETTO:-0400
TZNAME:-04
DTSTART:20230402T030000
END:STANDARD
BEGIN:DAYLIGHT
TZOFFSETFROM:-0400
TZOFFSETTO:-0300
TZNAME:-03
DTSTART:20230903T040000
END:DAYLIGHT
END:VTIMEZONE
BEGIN:VEVENT
DTSTART;TZID=America/Santiago:20230609T183000
DTEND;TZID=America/Santiago:20230609T193000
DTSTAMP:20260423T040846
CREATED:20230524T195457Z
LAST-MODIFIED:20230524T200056Z
UID:4947-1686335400-1686339000@corporacion.cerronavia.cl
SUMMARY:Canciones acrobáticas de la compañía Les
DESCRIPTION:
URL:https://corporacion.cerronavia.cl/event/canciones-acrobaticas-de-la-compania-les/
LOCATION:Casa de las Culturas\, las Artes y las Ciencias Violeta Parra\, Huelén 1549\, santiago\, Chile
CATEGORIES:Cultura,Danza,Teatro
ATTACH;FMTTYPE=image/jpeg:https://corporacion.cerronavia.cl/wp-content/uploads/2023/05/canciones-acrobaticas_feed.jpg
END:VEVENT
END:VCALENDAR