BEGIN:VCALENDAR
VERSION:2.0
PRODID:-//Corporación Cerro Navia - ECPv6.10.1.1//NONSGML v1.0//EN
CALSCALE:GREGORIAN
METHOD:PUBLISH
X-ORIGINAL-URL:https://corporacion.cerronavia.cl
X-WR-CALDESC:Eventos para Corporación Cerro Navia
REFRESH-INTERVAL;VALUE=DURATION:PT1H
X-Robots-Tag:noindex
X-PUBLISHED-TTL:PT1H
BEGIN:VTIMEZONE
TZID:America/Santiago
BEGIN:STANDARD
TZOFFSETFROM:-0300
TZOFFSETTO:-0400
TZNAME:-04
DTSTART:20230402T030000
END:STANDARD
BEGIN:DAYLIGHT
TZOFFSETFROM:-0400
TZOFFSETTO:-0300
TZNAME:-03
DTSTART:20230903T040000
END:DAYLIGHT
END:VTIMEZONE
BEGIN:VEVENT
DTSTART;TZID=America/Santiago:20230908T190000
DTEND;TZID=America/Santiago:20230908T203000
DTSTAMP:20260422T201520
CREATED:20230830T200951Z
LAST-MODIFIED:20230830T200951Z
UID:6300-1694199600-1694205000@corporacion.cerronavia.cl
SUMMARY:Obra de teatro: Cabra de Monte\, de la compañía Colectivo Desalambrado
DESCRIPTION:
URL:https://corporacion.cerronavia.cl/event/obra-de-teatro-cabra-de-monte-de-la-compania-colectivo-desalambrado/
LOCATION:Teatro de la Casa de las Culturas\, las Artes y las Ciencias Violeta Parra\, Casa de las Culturas\, las Artes y las Ciencias Violeta Parra\, Santiago\, Chile
CATEGORIES:Cultura,Teatro
ATTACH;FMTTYPE=image/png:https://corporacion.cerronavia.cl/wp-content/uploads/2023/08/cabra-de-monte_feed.png
END:VEVENT
END:VCALENDAR