BEGIN:VCALENDAR
VERSION:2.0
PRODID:-//Corporación Cerro Navia - ECPv6.10.1.1//NONSGML v1.0//EN
CALSCALE:GREGORIAN
METHOD:PUBLISH
X-WR-CALNAME:Corporación Cerro Navia
X-ORIGINAL-URL:https://corporacion.cerronavia.cl
X-WR-CALDESC:Eventos para Corporación Cerro Navia
REFRESH-INTERVAL;VALUE=DURATION:PT1H
X-Robots-Tag:noindex
X-PUBLISHED-TTL:PT1H
BEGIN:VTIMEZONE
TZID:America/Santiago
BEGIN:STANDARD
TZOFFSETFROM:-0300
TZOFFSETTO:-0400
TZNAME:-04
DTSTART:20240407T030000
END:STANDARD
BEGIN:DAYLIGHT
TZOFFSETFROM:-0400
TZOFFSETTO:-0300
TZNAME:-03
DTSTART:20240908T040000
END:DAYLIGHT
END:VTIMEZONE
BEGIN:VEVENT
DTSTART;TZID=America/Santiago:20240202T180000
DTEND;TZID=America/Santiago:20240202T190000
DTSTAMP:20260422T094223
CREATED:20240201T204657Z
LAST-MODIFIED:20240202T181252Z
UID:8035-1706896800-1706900400@corporacion.cerronavia.cl
SUMMARY:Obra de teatro: En el alma habita un pájaro
DESCRIPTION:Esta obra caracterizada en un cuentacuentos familiar\, además tiene música en vivo\, especialmente pensada en niños y niñas\, enfocado en reconocer a las infancias y validar su universo sensible desde las artes.
URL:https://corporacion.cerronavia.cl/event/obra-de-teatro-en-el-alma-habita-un-pajaro/
LOCATION:Huelén & J.J. Pérez\, Huelén & José Joaquín Pérez
CATEGORIES:Cultura,Teatro
END:VEVENT
BEGIN:VEVENT
DTSTART;TZID=America/Santiago:20240216T193000
DTEND;TZID=America/Santiago:20240216T210000
DTSTAMP:20260422T094223
CREATED:20240202T194609Z
LAST-MODIFIED:20240205T153503Z
UID:8114-1708111800-1708117200@corporacion.cerronavia.cl
SUMMARY:Cirko Volador
DESCRIPTION:
URL:https://corporacion.cerronavia.cl/event/cirko-volador/
LOCATION:Siemprevivas con Almirante Grau\, Siemprevivas con Almirante Grau
CATEGORIES:Cultura,Danza,Teatro
ATTACH;FMTTYPE=image/png:https://corporacion.cerronavia.cl/wp-content/uploads/2024/02/cirko_volador_feed.png
END:VEVENT
END:VCALENDAR