BEGIN:VCALENDAR
VERSION:2.0
PRODID:-//Corporación Cerro Navia - ECPv6.10.1.1//NONSGML v1.0//EN
CALSCALE:GREGORIAN
METHOD:PUBLISH
X-WR-CALNAME:Corporación Cerro Navia
X-ORIGINAL-URL:https://corporacion.cerronavia.cl
X-WR-CALDESC:Eventos para Corporación Cerro Navia
REFRESH-INTERVAL;VALUE=DURATION:PT1H
X-Robots-Tag:noindex
X-PUBLISHED-TTL:PT1H
BEGIN:VTIMEZONE
TZID:America/Santiago
BEGIN:STANDARD
TZOFFSETFROM:-0300
TZOFFSETTO:-0400
TZNAME:-04
DTSTART:20230402T030000
END:STANDARD
BEGIN:DAYLIGHT
TZOFFSETFROM:-0400
TZOFFSETTO:-0300
TZNAME:-03
DTSTART:20230903T040000
END:DAYLIGHT
END:VTIMEZONE
BEGIN:VEVENT
DTSTART;TZID=America/Santiago:20230805T180000
DTEND;TZID=America/Santiago:20230805T193000
DTSTAMP:20260423T024844
CREATED:20230728T194828Z
LAST-MODIFIED:20230801T220832Z
UID:5873-1691258400-1691263800@corporacion.cerronavia.cl
SUMMARY:Obra de teatro Pinochet\, la obra censurada en dictadura\, de la compañía de teatro Perro Muerto
DESCRIPTION:Actividad en el marco de la conmemoración de los 50 años del golpe cívico militar.
URL:https://corporacion.cerronavia.cl/event/obra-de-teatro-pinochet-la-obra-censurada-en-dictadura-de-la-compania-de-teatro-perro-muerto/
CATEGORIES:Cultura,Teatro
ATTACH;FMTTYPE=image/png:https://corporacion.cerronavia.cl/wp-content/uploads/2023/07/pinochet.png
END:VEVENT
END:VCALENDAR