BEGIN:VCALENDAR
VERSION:2.0
PRODID:-//Corporación Cerro Navia - ECPv6.10.1.1//NONSGML v1.0//EN
CALSCALE:GREGORIAN
METHOD:PUBLISH
X-WR-CALNAME:Corporación Cerro Navia
X-ORIGINAL-URL:https://corporacion.cerronavia.cl
X-WR-CALDESC:Eventos para Corporación Cerro Navia
REFRESH-INTERVAL;VALUE=DURATION:PT1H
X-Robots-Tag:noindex
X-PUBLISHED-TTL:PT1H
BEGIN:VTIMEZONE
TZID:America/Santiago
BEGIN:STANDARD
TZOFFSETFROM:-0300
TZOFFSETTO:-0400
TZNAME:-04
DTSTART:20240407T030000
END:STANDARD
BEGIN:DAYLIGHT
TZOFFSETFROM:-0400
TZOFFSETTO:-0300
TZNAME:-03
DTSTART:20240908T040000
END:DAYLIGHT
END:VTIMEZONE
BEGIN:VEVENT
DTSTART;TZID=America/Santiago:20240318T100000
DTEND;TZID=America/Santiago:20240318T120000
DTSTAMP:20260420T085212
CREATED:20240301T194152Z
LAST-MODIFIED:20240304T185522Z
UID:8489-1710756000-1710763200@corporacion.cerronavia.cl
SUMMARY:Semana de la Astronomía: Observaciones Solares
DESCRIPTION:
URL:https://corporacion.cerronavia.cl/event/semana-de-la-astronomia-observaciones-solares/
LOCATION:Anfiteatro de la Casa de las Culturas\, Huelén 1549\, Santiago\, Chile
CATEGORIES:Dirección de Ciencias,Semana de la Astronomía
ATTACH;FMTTYPE=image/png:https://corporacion.cerronavia.cl/wp-content/uploads/2024/03/astro_week_2024_Mesa-de-trabajo-1-copia-2.png
END:VEVENT
BEGIN:VEVENT
DTSTART;TZID=America/Santiago:20240318T170000
DTEND;TZID=America/Santiago:20240318T230000
DTSTAMP:20260420T085212
CREATED:20240304T134844Z
LAST-MODIFIED:20240304T134844Z
UID:8525-1710781200-1710802800@corporacion.cerronavia.cl
SUMMARY:Semana de la Astronomía 2024: Ciencia en el Territorio: Maratón Astronómica
DESCRIPTION:
URL:https://corporacion.cerronavia.cl/event/semana-de-la-astronomia-2024-ciencia-en-el-territorio-maraton-astronomica-2/
LOCATION:Av. Mapocho con Isla Azores  Cancha del club Mauricio Wainer\, UV 11
CATEGORIES:Dirección de Ciencias,Semana de la Astronomía
ATTACH;FMTTYPE=image/png:https://corporacion.cerronavia.cl/wp-content/uploads/2024/03/astro_week_2024_Mesa-de-trabajo-1-copia-3-1.png
END:VEVENT
END:VCALENDAR