BEGIN:VCALENDAR
VERSION:2.0
PRODID:-//Corporación Cerro Navia - ECPv6.10.1.1//NONSGML v1.0//EN
CALSCALE:GREGORIAN
METHOD:PUBLISH
X-WR-CALNAME:Corporación Cerro Navia
X-ORIGINAL-URL:https://corporacion.cerronavia.cl
X-WR-CALDESC:Eventos para Corporación Cerro Navia
REFRESH-INTERVAL;VALUE=DURATION:PT1H
X-Robots-Tag:noindex
X-PUBLISHED-TTL:PT1H
BEGIN:VTIMEZONE
TZID:America/Santiago
BEGIN:STANDARD
TZOFFSETFROM:-0300
TZOFFSETTO:-0400
TZNAME:-04
DTSTART:20240407T030000
END:STANDARD
BEGIN:DAYLIGHT
TZOFFSETFROM:-0400
TZOFFSETTO:-0300
TZNAME:-03
DTSTART:20240908T040000
END:DAYLIGHT
END:VTIMEZONE
BEGIN:VEVENT
DTSTART;TZID=America/Santiago:20240319T203000
DTEND;TZID=America/Santiago:20240319T220000
DTSTAMP:20260420T044817
CREATED:20240304T140030Z
LAST-MODIFIED:20240304T140030Z
UID:8535-1710880200-1710885600@corporacion.cerronavia.cl
SUMMARY:Semana de la Astronomía: Ciencia en el Territorio: Jornada de Observaciones Astronómicas
DESCRIPTION:
URL:https://corporacion.cerronavia.cl/event/semana-de-la-astronomia-ciencia-en-el-territorio-jornada-de-observaciones-astronomicas/
LOCATION:Cultura con Errázuriz\, Cultura con Errázuriz
CATEGORIES:Dirección de Ciencias,Jornadas Astronómicas,Semana de la Astronomía
ATTACH;FMTTYPE=image/png:https://corporacion.cerronavia.cl/wp-content/uploads/2024/03/astro_week_2024_Mesa-de-trabajo-1-copia-6.png
END:VEVENT
END:VCALENDAR